############################################################################## ############################################################################## ### ### Running command: ### ### /home/biocbuild/bbs-3.22-bioc/R/bin/R CMD INSTALL TFHAZ ### ############################################################################## ############################################################################## * installing to library ‘/home/biocbuild/bbs-3.22-bioc/R/site-library’ * installing *source* package ‘TFHAZ’ ... ** this is package ‘TFHAZ’ version ‘1.31.0’ ** using staged installation ** R ** data *** moving datasets to lazyload DB ** byte-compile and prepare package for lazy loading Warning: no function found corresponding to methods exports from ‘ORFik’ for: ‘organism’ ** help *** installing help indices ** building package indices ** installing vignettes ** testing if installed package can be loaded from temporary location Warning: no function found corresponding to methods exports from ‘ORFik’ for: ‘organism’ ** testing if installed package can be loaded from final location Warning: no function found corresponding to methods exports from ‘ORFik’ for: ‘organism’ ** testing if installed package keeps a record of temporary installation path * DONE (TFHAZ)