Package: TFHAZ Version: 1.31.0 Command: /home/biocbuild/bbs-3.22-bioc/R/bin/R CMD build --keep-empty-dirs --no-resave-data --md5 TFHAZ StartedAt: 2025-07-01 19:31:39 -0400 (Tue, 01 Jul 2025) EndedAt: 2025-07-01 19:32:49 -0400 (Tue, 01 Jul 2025) EllapsedTime: 70.1 seconds RetCode: 0 Status: OK PackageFile: TFHAZ_1.31.0.tar.gz PackageFileSize: 2.516 MiB