Package: TFHAZ Version: 1.31.0 Command: /Library/Frameworks/R.framework/Resources/bin/R CMD INSTALL TFHAZ StartedAt: 2025-10-05 15:21:00 -0400 (Sun, 05 Oct 2025) EndedAt: 2025-10-05 15:21:18 -0400 (Sun, 05 Oct 2025) EllapsedTime: 18.1 seconds RetCode: 0 Status: OK