Package: TFHAZ Version: 1.31.0 Command: /Library/Frameworks/R.framework/Resources/bin/R CMD build --keep-empty-dirs --no-resave-data TFHAZ StartedAt: 2025-10-05 17:59:40 -0400 (Sun, 05 Oct 2025) EndedAt: 2025-10-05 18:00:11 -0400 (Sun, 05 Oct 2025) EllapsedTime: 31.4 seconds RetCode: 0 Status: OK PackageFile: TFHAZ_1.31.0.tar.gz PackageFileSize: 2.516 MiB