Package: TFHAZ Version: 1.31.0 Command: rm -rf TFHAZ.buildbin-libdir && mkdir TFHAZ.buildbin-libdir && /Users/biocbuild/BBS/utils/build-universal.sh TFHAZ_1.31.0.tar.gz /Library/Frameworks/R.framework/Resources/bin/R TFHAZ.buildbin-libdir StartedAt: 2025-10-05 23:02:10 -0400 (Sun, 05 Oct 2025) EndedAt: 2025-10-05 23:02:30 -0400 (Sun, 05 Oct 2025) EllapsedTime: 20.4 seconds RetCode: 0 Status: OK PackageFile: TFHAZ_1.31.0.tgz PackageFileSize: 3.291 MiB