Package: TFEA.ChIP Version: 1.29.3 Command: /home/biocbuild/R/R/bin/R CMD check --install=check:TFEA.ChIP.install-out.txt --library=/home/biocbuild/R/R/site-library --no-vignettes --timings TFEA.ChIP_1.29.3.tar.gz StartedAt: 2025-10-03 12:22:49 -0000 (Fri, 03 Oct 2025) EndedAt: 2025-10-03 12:29:45 -0000 (Fri, 03 Oct 2025) EllapsedTime: 415.7 seconds RetCode: 0 Status: OK CheckDir: TFEA.ChIP.Rcheck Warnings: 0