Package: TFEA.ChIP Version: 1.29.3 Command: /home/biocbuild/R/R/bin/R CMD build --keep-empty-dirs --no-resave-data TFEA.ChIP StartedAt: 2025-10-03 03:47:58 -0000 (Fri, 03 Oct 2025) EndedAt: 2025-10-03 03:49:55 -0000 (Fri, 03 Oct 2025) EllapsedTime: 117.0 seconds RetCode: 0 Status: OK PackageFile: TFEA.ChIP_1.29.3.tar.gz PackageFileSize: 6.838 MiB