Package: TFEA.ChIP Version: 1.29.2 Command: F:\biocbuild\bbs-3.22-bioc\R\bin\R.exe CMD check --no-multiarch --install=check:TFEA.ChIP.install-out.txt --library=F:\biocbuild\bbs-3.22-bioc\R\library --no-vignettes --timings TFEA.ChIP_1.29.2.tar.gz StartedAt: 2025-08-15 08:45:06 -0400 (Fri, 15 Aug 2025) EndedAt: 2025-08-15 08:51:58 -0400 (Fri, 15 Aug 2025) EllapsedTime: 412.1 seconds RetCode: 0 Status: WARNINGS CheckDir: TFEA.ChIP.Rcheck Warnings: 3