Package: TFEA.ChIP Version: 1.29.2 Command: chmod a+r TFEA.ChIP -R && F:\biocbuild\bbs-3.22-bioc\R\bin\R.exe CMD build --keep-empty-dirs --no-resave-data TFEA.ChIP StartedAt: 2025-08-14 23:44:38 -0400 (Thu, 14 Aug 2025) EndedAt: 2025-08-14 23:47:52 -0400 (Thu, 14 Aug 2025) EllapsedTime: 194.1 seconds RetCode: 0 Status: OK PackageFile: TFEA.ChIP_1.29.2.tar.gz PackageFileSize: 9.62 MiB