############################################################################## ############################################################################## ### ### Running command: ### ### rm -rf TFEA.ChIP.buildbin-libdir && mkdir TFEA.ChIP.buildbin-libdir && F:\biocbuild\bbs-3.22-bioc\R\bin\R.exe CMD INSTALL --build --library=TFEA.ChIP.buildbin-libdir TFEA.ChIP_1.29.2.tar.gz ### ############################################################################## ############################################################################## * installing *source* package 'TFEA.ChIP' ... ** this is package 'TFEA.ChIP' version '1.29.2' ** using staged installation ** R ** data ** inst ** byte-compile and prepare package for lazy loading ** help *** installing help indices ** building package indices ** installing vignettes Warning in file(con, "w") : cannot open file 'F:/biocbuild/bbs-3.22-bioc/meat/TFEA.ChIP.buildbin-libdir/00LOCK-TFEA.ChIP/00new/TFEA.ChIP/doc/index.html': No such file or directory Error in file(con, "w") : cannot open the connection ERROR: installing vignettes failed * removing 'F:/biocbuild/bbs-3.22-bioc/meat/TFEA.ChIP.buildbin-libdir/TFEA.ChIP'