Package: TFEA.ChIP Version: 1.29.3 Command: /home/biocbuild/bbs-3.22-bioc/R/bin/R CMD INSTALL TFEA.ChIP StartedAt: 2025-10-03 15:39:57 -0400 (Fri, 03 Oct 2025) EndedAt: 2025-10-03 15:41:02 -0400 (Fri, 03 Oct 2025) EllapsedTime: 64.4 seconds RetCode: 0 Status: OK