Package: TFEA.ChIP Version: 1.29.3 Command: /Library/Frameworks/R.framework/Resources/bin/R CMD INSTALL TFEA.ChIP StartedAt: 2025-10-05 15:35:55 -0400 (Sun, 05 Oct 2025) EndedAt: 2025-10-05 15:37:19 -0400 (Sun, 05 Oct 2025) EllapsedTime: 84.3 seconds RetCode: 0 Status: OK