Package: TFEA.ChIP Version: 1.29.3 Command: rm -rf TFEA.ChIP.buildbin-libdir && mkdir TFEA.ChIP.buildbin-libdir && /Users/biocbuild/BBS/utils/build-universal.sh TFEA.ChIP_1.29.3.tar.gz /Library/Frameworks/R.framework/Resources/bin/R TFEA.ChIP.buildbin-libdir StartedAt: 2025-10-06 02:29:20 -0400 (Mon, 06 Oct 2025) EndedAt: 2025-10-06 02:30:47 -0400 (Mon, 06 Oct 2025) EllapsedTime: 86.8 seconds RetCode: 0 Status: OK PackageFile: TFEA.ChIP_1.29.3.tgz PackageFileSize: 6.259 MiB