Package: TFEA.ChIP Version: 1.29.3 Command: /Library/Frameworks/R.framework/Resources/bin/R CMD INSTALL TFEA.ChIP StartedAt: 2025-10-10 15:23:28 -0400 (Fri, 10 Oct 2025) EndedAt: 2025-10-10 15:23:56 -0400 (Fri, 10 Oct 2025) EllapsedTime: 28.1 seconds RetCode: 0 Status: OK