Package: TFEA.ChIP Version: 1.29.3 Command: /Library/Frameworks/R.framework/Resources/bin/R CMD check --install=check:TFEA.ChIP.install-out.txt --library=/Library/Frameworks/R.framework/Resources/library --no-vignettes --timings TFEA.ChIP_1.29.3.tar.gz StartedAt: 2025-10-10 22:07:37 -0400 (Fri, 10 Oct 2025) EndedAt: 2025-10-10 22:09:45 -0400 (Fri, 10 Oct 2025) EllapsedTime: 128.5 seconds RetCode: 0 Status: OK CheckDir: TFEA.ChIP.Rcheck Warnings: 0