Package: TFEA.ChIP Version: 1.29.3 Maintainer: Yosra Berrouayel MaintainerEmail: yosraberrouayel at gmail.com git_url: https://git.bioconductor.org/packages/TFEA.ChIP git_branch: devel git_last_commit: 9e8f094 git_last_commit_date: 2025-09-08 05:40:34 -0400 (Mon, 08 Sep 2025)