Package: TFARM Version: 1.31.0 Command: rm -rf TFARM.buildbin-libdir && mkdir TFARM.buildbin-libdir && /Users/biocbuild/BBS/utils/build-universal.sh TFARM_1.31.0.tar.gz /Library/Frameworks/R.framework/Resources/bin/R TFARM.buildbin-libdir StartedAt: 2025-07-15 01:24:27 -0400 (Tue, 15 Jul 2025) EndedAt: 2025-07-15 01:24:52 -0400 (Tue, 15 Jul 2025) EllapsedTime: 24.5 seconds RetCode: 0 Status: OK PackageFile: TFARM_1.31.0.tgz PackageFileSize: 532.8 KiB