Package: TFARM Version: 1.31.0 Command: /Library/Frameworks/R.framework/Resources/bin/R CMD INSTALL TFARM StartedAt: 2025-07-14 15:11:14 -0400 (Mon, 14 Jul 2025) EndedAt: 2025-07-14 15:11:20 -0400 (Mon, 14 Jul 2025) EllapsedTime: 6.5 seconds RetCode: 0 Status: OK