Package: TEQC Version: 4.31.0 Command: /home/biocbuild/R/R/bin/R CMD INSTALL TEQC StartedAt: 2025-07-10 21:22:34 -0000 (Thu, 10 Jul 2025) EndedAt: 2025-07-10 21:22:52 -0000 (Thu, 10 Jul 2025) EllapsedTime: 17.2 seconds RetCode: 0 Status: OK