Package: TEQC Version: 4.31.0 Command: F:\biocbuild\bbs-3.22-bioc\R\bin\R.exe CMD INSTALL TEQC StartedAt: 2025-07-14 15:51:52 -0400 (Mon, 14 Jul 2025) EndedAt: 2025-07-14 15:52:21 -0400 (Mon, 14 Jul 2025) EllapsedTime: 28.5 seconds RetCode: 0 Status: OK