Package: TEQC Version: 4.31.0 Command: chmod a+r TEQC -R && F:\biocbuild\bbs-3.22-bioc\R\bin\R.exe CMD build --keep-empty-dirs --no-resave-data TEQC StartedAt: 2025-07-14 22:34:10 -0400 (Mon, 14 Jul 2025) EndedAt: 2025-07-14 22:34:35 -0400 (Mon, 14 Jul 2025) EllapsedTime: 25.1 seconds RetCode: 1 Status: ERROR PackageFile: None PackageFileSize: NA