Package: TEQC Version: 4.31.0 Command: rm -rf TEQC.buildbin-libdir && mkdir TEQC.buildbin-libdir && F:\biocbuild\bbs-3.22-bioc\R\bin\R.exe CMD INSTALL --build --library=TEQC.buildbin-libdir TEQC_4.31.0.tar.gz StartedAt: 2025-06-21 10:07:26 -0400 (Sat, 21 Jun 2025) EndedAt: 2025-06-21 10:07:47 -0400 (Sat, 21 Jun 2025) EllapsedTime: 21.2 seconds RetCode: 0 Status: OK PackageFile: TEQC_4.31.0.zip PackageFileSize: 665.5 KiB