Package: TENxIO Version: 1.11.5 Command: F:\biocbuild\bbs-3.22-bioc\R\bin\R.exe CMD INSTALL TENxIO StartedAt: 2025-07-14 16:07:59 -0400 (Mon, 14 Jul 2025) EndedAt: 2025-07-14 16:08:44 -0400 (Mon, 14 Jul 2025) EllapsedTime: 45.1 seconds RetCode: 0 Status: OK