Package: TENxIO Version: 1.11.5 Command: F:\biocbuild\bbs-3.22-bioc\R\bin\R.exe CMD check --no-multiarch --install=check:TENxIO.install-out.txt --library=F:\biocbuild\bbs-3.22-bioc\R\library --no-vignettes --timings TENxIO_1.11.5.tar.gz StartedAt: 2025-07-15 07:22:24 -0400 (Tue, 15 Jul 2025) EndedAt: 2025-07-15 07:26:19 -0400 (Tue, 15 Jul 2025) EllapsedTime: 234.6 seconds RetCode: 0 Status: OK CheckDir: TENxIO.Rcheck Warnings: 0