Package: TENxIO Version: 1.11.5 Command: rm -rf TENxIO.buildbin-libdir && mkdir TENxIO.buildbin-libdir && F:\biocbuild\bbs-3.22-bioc\R\bin\R.exe CMD INSTALL --build --library=TENxIO.buildbin-libdir TENxIO_1.11.5.tar.gz StartedAt: 2025-07-15 10:07:56 -0400 (Tue, 15 Jul 2025) EndedAt: 2025-07-15 10:08:37 -0400 (Tue, 15 Jul 2025) EllapsedTime: 41.3 seconds RetCode: 0 Status: OK PackageFile: TENxIO_1.11.5.zip PackageFileSize: 584.3 KiB