Package: TENxIO Version: 1.11.5 Command: /home/biocbuild/bbs-3.22-bioc/R/bin/R CMD INSTALL TENxIO StartedAt: 2025-10-05 15:34:47 -0400 (Sun, 05 Oct 2025) EndedAt: 2025-10-05 15:35:13 -0400 (Sun, 05 Oct 2025) EllapsedTime: 25.7 seconds RetCode: 0 Status: OK