Package: TENxIO Version: 1.11.5 Command: /home/biocbuild/bbs-3.22-bioc/R/bin/R CMD build --keep-empty-dirs --no-resave-data --md5 TENxIO StartedAt: 2025-10-05 20:32:20 -0400 (Sun, 05 Oct 2025) EndedAt: 2025-10-05 20:33:03 -0400 (Sun, 05 Oct 2025) EllapsedTime: 43.0 seconds RetCode: 0 Status: OK PackageFile: TENxIO_1.11.5.tar.gz PackageFileSize: 258.9 KiB