Package: TENxIO Version: 1.11.5 Command: /Library/Frameworks/R.framework/Resources/bin/R CMD INSTALL TENxIO StartedAt: 2025-07-01 15:33:28 -0400 (Tue, 01 Jul 2025) EndedAt: 2025-07-01 15:34:04 -0400 (Tue, 01 Jul 2025) EllapsedTime: 35.1 seconds RetCode: 0 Status: OK