Package: TENET Version: 1.1.90 Command: /home/biocbuild/R/R/bin/R CMD build --keep-empty-dirs --no-resave-data TENET StartedAt: 2025-07-25 04:21:16 -0000 (Fri, 25 Jul 2025) EndedAt: 2025-07-25 04:45:36 -0000 (Fri, 25 Jul 2025) EllapsedTime: 1459.8 seconds RetCode: 0 Status: OK PackageFile: TENET_1.1.90.tar.gz PackageFileSize: 1.104 MiB