Package: TENET Version: 1.1.90 Command: F:\biocbuild\bbs-3.22-bioc\R\bin\R.exe CMD INSTALL TENET StartedAt: 2025-07-20 17:03:02 -0400 (Sun, 20 Jul 2025) EndedAt: 2025-07-20 17:03:56 -0400 (Sun, 20 Jul 2025) EllapsedTime: 53.8 seconds RetCode: 0 Status: OK