Package: TENET Version: 1.1.90 Command: chmod a+r TENET -R && F:\biocbuild\bbs-3.22-bioc\R\bin\R.exe CMD build --keep-empty-dirs --no-resave-data TENET StartedAt: 2025-07-20 22:31:48 -0400 (Sun, 20 Jul 2025) EndedAt: 2025-07-20 23:10:11 -0400 (Sun, 20 Jul 2025) EllapsedTime: 2303.6 seconds RetCode: 0 Status: OK PackageFile: TENET_1.1.90.tar.gz PackageFileSize: 903.8 KiB