Package: TENET Version: 1.1.90 Command: rm -rf TENET.buildbin-libdir && mkdir TENET.buildbin-libdir && F:\biocbuild\bbs-3.22-bioc\R\bin\R.exe CMD INSTALL --build --library=TENET.buildbin-libdir TENET_1.1.90.tar.gz StartedAt: 2025-07-21 10:14:10 -0400 (Mon, 21 Jul 2025) EndedAt: 2025-07-21 10:15:05 -0400 (Mon, 21 Jul 2025) EllapsedTime: 54.6 seconds RetCode: 0 Status: OK PackageFile: TENET_1.1.90.zip PackageFileSize: 1.32 MiB