Package: TENET Version: 1.1.90 Command: /home/biocbuild/bbs-3.22-bioc/R/bin/R CMD check --install=check:TENET.install-out.txt --library=/home/biocbuild/bbs-3.22-bioc/R/site-library --timings TENET_1.1.90.tar.gz StartedAt: 2025-10-06 05:07:44 -0400 (Mon, 06 Oct 2025) EndedAt: 2025-10-06 05:32:33 -0400 (Mon, 06 Oct 2025) EllapsedTime: 1489.5 seconds RetCode: 0 Status: OK CheckDir: TENET.Rcheck Warnings: 0