Package: TENET Version: 1.1.90 Command: /Library/Frameworks/R.framework/Resources/bin/R CMD INSTALL TENET StartedAt: 2025-07-01 15:44:01 -0400 (Tue, 01 Jul 2025) EndedAt: 2025-07-01 15:44:49 -0400 (Tue, 01 Jul 2025) EllapsedTime: 47.4 seconds RetCode: 0 Status: OK