Package: TENET Version: 1.1.90 Command: /Library/Frameworks/R.framework/Resources/bin/R CMD check --install=check:TENET.install-out.txt --library=/Library/Frameworks/R.framework/Resources/library --no-vignettes --timings TENET_1.1.90.tar.gz StartedAt: 2025-07-02 00:07:01 -0400 (Wed, 02 Jul 2025) EndedAt: 2025-07-02 00:11:13 -0400 (Wed, 02 Jul 2025) EllapsedTime: 252.3 seconds RetCode: 0 Status: OK CheckDir: TENET.Rcheck Warnings: 0