Package: TENET Version: 1.1.90 Command: /Library/Frameworks/R.framework/Resources/bin/R CMD build --keep-empty-dirs --no-resave-data TENET StartedAt: 2025-07-01 18:48:42 -0400 (Tue, 01 Jul 2025) EndedAt: 2025-07-01 19:04:42 -0400 (Tue, 01 Jul 2025) EllapsedTime: 960.4 seconds RetCode: 0 Status: OK PackageFile: TENET_1.1.90.tar.gz PackageFileSize: 1.943 MiB