Package: TENET Version: 1.1.90 Command: /Library/Frameworks/R.framework/Resources/bin/R CMD build --keep-empty-dirs --no-resave-data TENET StartedAt: 2025-07-20 17:47:33 -0400 (Sun, 20 Jul 2025) EndedAt: 2025-07-20 17:54:29 -0400 (Sun, 20 Jul 2025) EllapsedTime: 415.9 seconds RetCode: 0 Status: OK PackageFile: TENET_1.1.90.tar.gz PackageFileSize: 1.948 MiB