Package: TENET Version: 1.1.90 Command: rm -rf TENET.buildbin-libdir && mkdir TENET.buildbin-libdir && /Users/biocbuild/BBS/utils/build-universal.sh TENET_1.1.90.tar.gz /Library/Frameworks/R.framework/Resources/bin/R TENET.buildbin-libdir StartedAt: 2025-07-20 22:44:33 -0400 (Sun, 20 Jul 2025) EndedAt: 2025-07-20 22:44:49 -0400 (Sun, 20 Jul 2025) EllapsedTime: 16.4 seconds RetCode: 0 Status: OK PackageFile: TENET_1.1.90.tgz PackageFileSize: 2.385 MiB