Package: TEKRABber Version: 1.13.0 Command: /home/biocbuild/R/R/bin/R CMD INSTALL TEKRABber StartedAt: 2025-07-21 20:54:51 -0000 (Mon, 21 Jul 2025) EndedAt: 2025-07-21 20:55:42 -0000 (Mon, 21 Jul 2025) EllapsedTime: 51.4 seconds RetCode: 0 Status: OK