Package: TEKRABber Version: 1.13.0 Command: /home/biocbuild/R/R/bin/R CMD build --keep-empty-dirs --no-resave-data TEKRABber StartedAt: 2025-07-22 03:22:55 -0000 (Tue, 22 Jul 2025) EndedAt: 2025-07-22 03:25:41 -0000 (Tue, 22 Jul 2025) EllapsedTime: 166.1 seconds RetCode: 0 Status: OK PackageFile: TEKRABber_1.13.0.tar.gz PackageFileSize: 3.463 MiB