Package: TEKRABber Version: 1.13.0 Command: chmod a+r TEKRABber -R && F:\biocbuild\bbs-3.22-bioc\R\bin\R.exe CMD build --keep-empty-dirs --no-resave-data TEKRABber StartedAt: 2025-07-21 22:36:01 -0400 (Mon, 21 Jul 2025) EndedAt: 2025-07-21 22:38:40 -0400 (Mon, 21 Jul 2025) EllapsedTime: 159.1 seconds RetCode: 0 Status: OK PackageFile: TEKRABber_1.13.0.tar.gz PackageFileSize: 3.44 MiB