Package: TEKRABber Version: 1.13.0 Command: rm -rf TEKRABber.buildbin-libdir && mkdir TEKRABber.buildbin-libdir && F:\biocbuild\bbs-3.22-bioc\R\bin\R.exe CMD INSTALL --build --library=TEKRABber.buildbin-libdir TEKRABber_1.13.0.tar.gz StartedAt: 2025-07-22 10:17:44 -0400 (Tue, 22 Jul 2025) EndedAt: 2025-07-22 10:18:35 -0400 (Tue, 22 Jul 2025) EllapsedTime: 51.2 seconds RetCode: 0 Status: OK PackageFile: TEKRABber_1.13.0.zip PackageFileSize: 3.707 MiB