Package: TEKRABber Version: 1.13.1 Command: /Library/Frameworks/R.framework/Resources/bin/R CMD INSTALL TEKRABber StartedAt: 2025-10-03 15:28:50 -0400 (Fri, 03 Oct 2025) EndedAt: 2025-10-03 15:29:44 -0400 (Fri, 03 Oct 2025) EllapsedTime: 54.0 seconds RetCode: 0 Status: OK