Package: TEKRABber Version: 1.13.1 Command: /Library/Frameworks/R.framework/Resources/bin/R CMD check --install=check:TEKRABber.install-out.txt --library=/Library/Frameworks/R.framework/Resources/library --no-vignettes --timings TEKRABber_1.13.1.tar.gz StartedAt: 2025-10-04 01:12:26 -0400 (Sat, 04 Oct 2025) EndedAt: 2025-10-04 01:33:43 -0400 (Sat, 04 Oct 2025) EllapsedTime: 1277.6 seconds RetCode: 0 Status: OK CheckDir: TEKRABber.Rcheck Warnings: 0