Package: TEKRABber Version: 1.13.1 Command: /Library/Frameworks/R.framework/Resources/bin/R CMD build --keep-empty-dirs --no-resave-data TEKRABber StartedAt: 2025-10-03 19:19:05 -0400 (Fri, 03 Oct 2025) EndedAt: 2025-10-03 19:21:25 -0400 (Fri, 03 Oct 2025) EllapsedTime: 139.7 seconds RetCode: 0 Status: OK PackageFile: TEKRABber_1.13.1.tar.gz PackageFileSize: 3.44 MiB