Package: TEKRABber Version: 1.13.1 Command: rm -rf TEKRABber.buildbin-libdir && mkdir TEKRABber.buildbin-libdir && /Users/biocbuild/BBS/utils/build-universal.sh TEKRABber_1.13.1.tar.gz /Library/Frameworks/R.framework/Resources/bin/R TEKRABber.buildbin-libdir StartedAt: 2025-10-04 02:34:01 -0400 (Sat, 04 Oct 2025) EndedAt: 2025-10-04 02:35:00 -0400 (Sat, 04 Oct 2025) EllapsedTime: 58.5 seconds RetCode: 0 Status: OK PackageFile: TEKRABber_1.13.1.tgz PackageFileSize: 3.388 MiB