Package: TEKRABber Version: 1.13.0 Command: /Library/Frameworks/R.framework/Resources/bin/R CMD build --keep-empty-dirs --no-resave-data TEKRABber StartedAt: 2025-07-20 17:47:30 -0400 (Sun, 20 Jul 2025) EndedAt: 2025-07-20 17:48:15 -0400 (Sun, 20 Jul 2025) EllapsedTime: 44.5 seconds RetCode: 0 Status: OK PackageFile: TEKRABber_1.13.0.tar.gz PackageFileSize: 3.44 MiB