Package: TEKRABber Version: 1.13.0 Command: rm -rf TEKRABber.buildbin-libdir && mkdir TEKRABber.buildbin-libdir && /Users/biocbuild/BBS/utils/build-universal.sh TEKRABber_1.13.0.tar.gz /Library/Frameworks/R.framework/Resources/bin/R TEKRABber.buildbin-libdir StartedAt: 2025-07-20 22:44:32 -0400 (Sun, 20 Jul 2025) EndedAt: 2025-07-20 22:44:49 -0400 (Sun, 20 Jul 2025) EllapsedTime: 17.5 seconds RetCode: 0 Status: OK PackageFile: TEKRABber_1.13.0.tgz PackageFileSize: 3.388 MiB