Package: TDbasedUFEadv Version: 1.9.1 Command: /Library/Frameworks/R.framework/Resources/bin/R CMD check --install=check:TDbasedUFEadv.install-out.txt --library=/Library/Frameworks/R.framework/Resources/library --no-vignettes --timings TDbasedUFEadv_1.9.1.tar.gz StartedAt: 2025-07-01 21:45:38 -0400 (Tue, 01 Jul 2025) EndedAt: 2025-07-01 21:47:04 -0400 (Tue, 01 Jul 2025) EllapsedTime: 86.1 seconds RetCode: 0 Status: OK CheckDir: TDbasedUFEadv.Rcheck Warnings: 0