Package: TDbasedUFEadv Version: 1.9.1 Command: /Library/Frameworks/R.framework/Resources/bin/R CMD build --keep-empty-dirs --no-resave-data TDbasedUFEadv StartedAt: 2025-07-01 17:45:00 -0400 (Tue, 01 Jul 2025) EndedAt: 2025-07-01 17:46:45 -0400 (Tue, 01 Jul 2025) EllapsedTime: 104.2 seconds RetCode: 0 Status: OK PackageFile: TDbasedUFEadv_1.9.1.tar.gz PackageFileSize: 4.02 MiB